BEGIN:VCALENDAR
VERSION:2.0
PRODID:-//ACW International - ECPv6.15.10//NONSGML v1.0//EN
CALSCALE:GREGORIAN
METHOD:PUBLISH
X-WR-CALNAME:ACW International
X-ORIGINAL-URL:https://www.africacommunicationsweek.com
X-WR-CALDESC:Events for ACW International
REFRESH-INTERVAL;VALUE=DURATION:PT1H
X-Robots-Tag:noindex
X-PUBLISHED-TTL:PT1H
BEGIN:VTIMEZONE
TZID:Europe/Paris
BEGIN:DAYLIGHT
TZOFFSETFROM:+0100
TZOFFSETTO:+0200
TZNAME:CEST
DTSTART:20190331T010000
END:DAYLIGHT
BEGIN:STANDARD
TZOFFSETFROM:+0200
TZOFFSETTO:+0100
TZNAME:CET
DTSTART:20191027T010000
END:STANDARD
BEGIN:DAYLIGHT
TZOFFSETFROM:+0100
TZOFFSETTO:+0200
TZNAME:CEST
DTSTART:20200329T010000
END:DAYLIGHT
BEGIN:STANDARD
TZOFFSETFROM:+0200
TZOFFSETTO:+0100
TZNAME:CET
DTSTART:20201025T010000
END:STANDARD
BEGIN:DAYLIGHT
TZOFFSETFROM:+0100
TZOFFSETTO:+0200
TZNAME:CEST
DTSTART:20210328T010000
END:DAYLIGHT
BEGIN:STANDARD
TZOFFSETFROM:+0200
TZOFFSETTO:+0100
TZNAME:CET
DTSTART:20211031T010000
END:STANDARD
END:VTIMEZONE
BEGIN:VTIMEZONE
TZID:UTC
BEGIN:STANDARD
TZOFFSETFROM:+0000
TZOFFSETTO:+0000
TZNAME:UTC
DTSTART:20170101T000000
END:STANDARD
END:VTIMEZONE
BEGIN:VTIMEZONE
TZID:Europe/Helsinki
BEGIN:DAYLIGHT
TZOFFSETFROM:+0200
TZOFFSETTO:+0300
TZNAME:EEST
DTSTART:20190331T010000
END:DAYLIGHT
BEGIN:STANDARD
TZOFFSETFROM:+0300
TZOFFSETTO:+0200
TZNAME:EET
DTSTART:20191027T010000
END:STANDARD
BEGIN:DAYLIGHT
TZOFFSETFROM:+0200
TZOFFSETTO:+0300
TZNAME:EEST
DTSTART:20200329T010000
END:DAYLIGHT
BEGIN:STANDARD
TZOFFSETFROM:+0300
TZOFFSETTO:+0200
TZNAME:EET
DTSTART:20201025T010000
END:STANDARD
BEGIN:DAYLIGHT
TZOFFSETFROM:+0200
TZOFFSETTO:+0300
TZNAME:EEST
DTSTART:20210328T010000
END:DAYLIGHT
BEGIN:STANDARD
TZOFFSETFROM:+0300
TZOFFSETTO:+0200
TZNAME:EET
DTSTART:20211031T010000
END:STANDARD
END:VTIMEZONE
BEGIN:VEVENT
DTSTART;TZID=Europe/Paris:20201210T160000
DTEND;TZID=Europe/Paris:20201210T170000
DTSTAMP:20260424T154316
CREATED:20201127T080310Z
LAST-MODIFIED:20201127T080310Z
UID:5803-1607616000-1607619600@www.africacommunicationsweek.com
SUMMARY:Crisis Communication Planning: What are the Keys to Success?
DESCRIPTION:Join Africa Communications Week and CIPR International for a webinar on Crisis Communication Planning on 10 December 2020 featuring leading experts: \n\nAmanda Coleman\, Chartered PR – Crisis specialist from the UK\nPhilippe Borremans – Emergency Risk and Crisis Communications Consultant and incoming President of IPRA\nVictoria Uwadoka – Corporate Communications and Public Affairs Lead\, Nestlé Nigeria\n\nThey’ll be sharing practical advice and insights on managing and planning for reputational risk. \nReserve your spot today: https://bit.ly/2V9BoYx
URL:https://www.africacommunicationsweek.com/event/crisis-communication-planning-keys-success/
LOCATION:Virtual Event
CATEGORIES:ACWEvents,Webinar
END:VEVENT
BEGIN:VEVENT
DTSTART;TZID=UTC:20200915T180000
DTEND;TZID=UTC:20200915T190000
DTSTAMP:20260424T154316
CREATED:20200911T165652Z
LAST-MODIFIED:20200911T165652Z
UID:5782-1600192800-1600196400@www.africacommunicationsweek.com
SUMMARY:Upskilling for the Future of Comms
DESCRIPTION:Calling all communication professionals across Africa! Are you looking to grow your network\, considering a career pivot\, or ready for new professional development opportunities? Africa Communications Week and CIPR International have partnered to host “Upskilling for the Future of Comms” to introduce the Chartered Institute of Public Relations on 15 September. \nSpeakers in the webinar will include the following: \n\nAndras Sztanislav FCIPR\, Chart.PR.(Chair of CIPR International)\nMandy Pearse MBA FCIPR (CIPR President-Elect)\nGraham Kench (CIPR Membership & CPD Manager)\nDarbuni Hyai Maikori MBA\, Chart.PR\, MCIPR\, MNIPR\nSamantha Seewoosurrun MCIPR (Founder of CIPR Mauritius network)\n\nThe meeting will be held at 18.00 SA / 17.00 WAT \nRegister here.
URL:https://www.africacommunicationsweek.com/event/upskilling-future-comms/
LOCATION:Virtual Event
CATEGORIES:ACWEvents
ATTACH;FMTTYPE=image/png:https://www.africacommunicationsweek.com/wp-content/uploads/2020/09/Post-Graphic-9.png
END:VEVENT
BEGIN:VEVENT
DTSTART;TZID=Europe/Helsinki:20200529T180000
DTEND;TZID=Europe/Helsinki:20200529T190000
DTSTAMP:20260424T154316
CREATED:20200508T131629Z
LAST-MODIFIED:20200520T084132Z
UID:5301-1590775200-1590778800@www.africacommunicationsweek.com
SUMMARY:7 défis pour les acteurs de communication face à la crise
DESCRIPTION:Les agences de communication\, quelle que soit leur taille\, doivent répondre à de nouveaux enjeux. Rendez-vous le vendredi 29 mai à 18h00 GMT + 2 pour une discussion sans tabou. \nInscrivez-vous ici
URL:https://www.africacommunicationsweek.com/event/7-defis-des-agences-de-communication-face-la-crise/
LOCATION:Virtual Event
CATEGORIES:ACWEvents
ATTACH;FMTTYPE=image/png:https://www.africacommunicationsweek.com/wp-content/uploads/2020/05/ACW-2020-Event-Template-20.png
END:VEVENT
BEGIN:VEVENT
DTSTART;TZID=Europe/Helsinki:20200529T163000
DTEND;TZID=Europe/Helsinki:20200529T173000
DTSTAMP:20260424T154316
CREATED:20200508T125958Z
LAST-MODIFIED:20200520T082505Z
UID:5287-1590769800-1590773400@www.africacommunicationsweek.com
SUMMARY:Emergency Risk Communication Preparedness for Africa
DESCRIPTION:Join us on Friday 29 May as communication expert Philippe Borremans presents a session on “Emergency Risk Communication Preparedness for Africa.” \nTime: 4.30 pm GMT +2. \nRegister here. \n\nPhilippe Borremans\n\nPhilippe Borremans is a multi-lingual independent consultant specialised in Crisis & Emergency Risk Communication with more than 25 years experience. He currently works for clients such as the World Health Organisation (WHO)\, the Deutsche Gesellschaft für Internationale Zusammenarbeit (GIZ) and the EU on Emergency Risk Communication capacity building missions across the ECOWAS and North Africa region. (www.riskcomms.com) \nHe is a guest lecturer at several universities and business schools in both Europe and Northern Africa (International University of Casablanca\, ISCAE Business School\, emlyon Business School\, the Royal Military Academy of Belgium\, the University Institute for Modern Languages in Milan) and a Certified Professional Trainer. \n\nPhilippe is a founding member of the International Association of Online Communicators (IAOC)\, a full member of the European Association of Communications Directors (EACD) and Member of the Board of the International Public Relations Association (IPRA).
URL:https://www.africacommunicationsweek.com/event/emergency-risk-communication-preparedness-africa/
LOCATION:Virtual Event
CATEGORIES:ACWEvents
ATTACH;FMTTYPE=image/png:https://www.africacommunicationsweek.com/wp-content/uploads/2020/05/ACW-2020-Event-Template-16.png
END:VEVENT
BEGIN:VEVENT
DTSTART;TZID=Europe/Helsinki:20200529T150000
DTEND;TZID=Europe/Helsinki:20200529T160000
DTSTAMP:20260424T154316
CREATED:20200528T173656Z
LAST-MODIFIED:20200529T063250Z
UID:5562-1590764400-1590768000@www.africacommunicationsweek.com
SUMMARY:African Brands: Crisis Ready?
DESCRIPTION:Join us on Friday 29 May for an Instagram Live Session @africacommsweek as we discuss how African brands are communicating and dealing with the current crisis.
URL:https://www.africacommunicationsweek.com/event/african-brands-crisis-ready/
LOCATION:Virtual Event
CATEGORIES:ACWEvents
ATTACH;FMTTYPE=image/png:https://www.africacommunicationsweek.com/wp-content/uploads/2020/05/ACW-2020-Event-Template-15-1.png
END:VEVENT
BEGIN:VEVENT
DTSTART;TZID=Europe/Helsinki:20200528T183000
DTEND;TZID=Europe/Helsinki:20200528T193000
DTSTAMP:20260424T154316
CREATED:20200508T131356Z
LAST-MODIFIED:20200522T052610Z
UID:5299-1590690600-1590694200@www.africacommunicationsweek.com
SUMMARY:Communication évenementielle en 2020: quoi\, où\, comment ?
DESCRIPTION:Comment repenser l’événementiel en ces temps incertains? Venez échanger avec des experts le jeudi 28 mai à 18h30. \nInscrivez-vous ici \n 
URL:https://www.africacommunicationsweek.com/event/communication-evenementielle-en-2020-quoi-ou-comment/
LOCATION:Virtual Event
CATEGORIES:ACWEvents
ATTACH;FMTTYPE=image/png:https://www.africacommunicationsweek.com/wp-content/uploads/2020/05/ACW-2020-Event-Template-33.png
END:VEVENT
BEGIN:VEVENT
DTSTART;TZID=Europe/Helsinki:20200528T170000
DTEND;TZID=Europe/Helsinki:20200528T180000
DTSTAMP:20260424T154316
CREATED:20200508T130813Z
LAST-MODIFIED:20200522T061058Z
UID:5294-1590685200-1590688800@www.africacommunicationsweek.com
SUMMARY:Nation Branding: The Power of Telling Your Own Story
DESCRIPTION:Join us for this Reviewing Africa Special on Nation Branding: The Power of Telling Your Own Story on Thursday 28 May at 5pm. \nTune in to the Reviewing Africa Youtube Channel to follow LIVE!
URL:https://www.africacommunicationsweek.com/event/nation-branding-power-telling-story/
LOCATION:Virtual Event
CATEGORIES:ACWEvents
ATTACH;FMTTYPE=image/png:https://www.africacommunicationsweek.com/wp-content/uploads/2020/05/Twitter-Posts-ACW-Special-All.png
END:VEVENT
BEGIN:VEVENT
DTSTART;TZID=Europe/Helsinki:20200528T163000
DTEND;TZID=Europe/Helsinki:20200528T173000
DTSTAMP:20260424T154316
CREATED:20200508T173949Z
LAST-MODIFIED:20200520T071405Z
UID:5297-1590683400-1590687000@www.africacommunicationsweek.com
SUMMARY:Innovative Communication for AgriTech in Africa
DESCRIPTION:Please join us and other communications professionals on Thursday\, 28th May\, 2020\, as we discuss Innovative Communication for AgriTech in Africa. \nTime: 4.30pm GMT +2. \nDon’t miss out. Register here.
URL:https://www.africacommunicationsweek.com/event/innovative-communication-agritech-africa/
LOCATION:Virtual Event
CATEGORIES:ACWEvents
ATTACH;FMTTYPE=image/png:https://www.africacommunicationsweek.com/wp-content/uploads/2020/05/Suleiman-Okoth.png
END:VEVENT
BEGIN:VEVENT
DTSTART;TZID=Europe/Helsinki:20200527T193000
DTEND;TZID=Europe/Helsinki:20200527T203000
DTSTAMP:20260424T154316
CREATED:20200525T132337Z
LAST-MODIFIED:20200525T181350Z
UID:5514-1590607800-1590611400@www.africacommunicationsweek.com
SUMMARY:Effective remote work strategies for African Teams
DESCRIPTION:Join us on Wednesday at 7:30pm GMT+ 2\, 1:30pm EST for an Instagram Live Session with Liz Grossman-Kitoyi\, CEO Baobab Consulting as we discuss effective remote work strategies for African Teams! Follow us @africacommsweek @baobabconsulting @lizgrossmank
URL:https://www.africacommunicationsweek.com/event/effective-remote-work-strategies-african-teams/
LOCATION:Virtual Event
CATEGORIES:ACWEvents
ATTACH;FMTTYPE=image/png:https://www.africacommunicationsweek.com/wp-content/uploads/2020/05/ACW-2020-Event-Template-14-1.png
END:VEVENT
BEGIN:VEVENT
DTSTART;TZID=Europe/Helsinki:20200527T180000
DTEND;TZID=Europe/Helsinki:20200527T190000
DTSTAMP:20260424T154316
CREATED:20200508T113714Z
LAST-MODIFIED:20200520T062727Z
UID:5279-1590602400-1590606000@www.africacommunicationsweek.com
SUMMARY:Shaping Global Conversations with African Content
DESCRIPTION:This session will focus on how communication professionals can shape global conversations with African content. \nJoin us on 27th May\, 2020. Time: 6:00pm GMT +2. \nSee you there! Register here
URL:https://www.africacommunicationsweek.com/event/shaping-global-conversations-african-content/
LOCATION:Virtual Event
CATEGORIES:ACWEvents
ATTACH;FMTTYPE=image/png:https://www.africacommunicationsweek.com/wp-content/uploads/2020/05/Shaping-Global-Conversations.png
END:VEVENT
BEGIN:VEVENT
DTSTART;TZID=Europe/Helsinki:20200527T150000
DTEND;TZID=Europe/Helsinki:20200527T160000
DTSTAMP:20260424T154316
CREATED:20200508T130550Z
LAST-MODIFIED:20200520T062554Z
UID:5290-1590591600-1590595200@www.africacommunicationsweek.com
SUMMARY:The Future of Africa-China Relations
DESCRIPTION:Happening live on Wednesday\, 27th May\, 2020\, this virtual discussion will examine “The Future of Africa-China Relations.” \nTaking place at 3:00pm GMT +2. \nJoin us! Click here to register.
URL:https://www.africacommunicationsweek.com/event/future-africa-china-relations/
LOCATION:Virtual Event
CATEGORIES:ACWEvents
ATTACH;FMTTYPE=image/png:https://www.africacommunicationsweek.com/wp-content/uploads/2020/05/Future-of-Africa-China.png
END:VEVENT
BEGIN:VEVENT
DTSTART;TZID=Europe/Helsinki:20200527T120000
DTEND;TZID=Europe/Helsinki:20200527T130000
DTSTAMP:20260424T154316
CREATED:20200511T100933Z
LAST-MODIFIED:20200515T161554Z
UID:5359-1590580800-1590584400@www.africacommunicationsweek.com
SUMMARY:Le digital :  levier stratégique en temps de crise
DESCRIPTION:Le digital va-t-il nous amener définitivement à repenser nos stratégies de communication? On en parle mercredi 27 mai à 12h00. \nInscrivez-vous ici
URL:https://www.africacommunicationsweek.com/event/le-digital-levier-strategique-en-temps-de-crise/
LOCATION:Virtual Event
CATEGORIES:ACWEvents
ATTACH;FMTTYPE=image/png:https://www.africacommunicationsweek.com/wp-content/uploads/2020/05/ACW-2020-Event-Template-6.png
END:VEVENT
BEGIN:VEVENT
DTSTART;TZID=UTC:20200526T193000
DTEND;TZID=UTC:20200526T203000
DTSTAMP:20260424T154316
CREATED:20200520T102222Z
LAST-MODIFIED:20200521T070641Z
UID:5472-1590521400-1590525000@www.africacommunicationsweek.com
SUMMARY:Communiquer pour réussir sa sortie de crise: nouvelles règles du jeu ?
DESCRIPTION:“Communiquer pour réussir sa sortie de crise: nouvelles règles du jeu ?”\nRejoignez-nous le 26 mai 2020 à 19h30 pour une discussion passionnante.\nHâte d’y être ? Inscrivez-vous ici
URL:https://www.africacommunicationsweek.com/event/communiquer-pour-reussir-sa-sortie-de-crise-nouvelles-regles-du-jeu/
LOCATION:Virtual Event
CATEGORIES:ACWEvents
ATTACH;FMTTYPE=image/jpeg:https://www.africacommunicationsweek.com/wp-content/uploads/2020/05/WhatsApp-Image-2020-05-21-at-8.25.46-AM.jpeg
END:VEVENT
BEGIN:VEVENT
DTSTART;TZID=Europe/Helsinki:20200526T180000
DTEND;TZID=Europe/Helsinki:20200526T190000
DTSTAMP:20260424T154316
CREATED:20200508T191633Z
LAST-MODIFIED:20200520T061413Z
UID:5341-1590516000-1590519600@www.africacommunicationsweek.com
SUMMARY:African Solutions - A Collaborative Future
DESCRIPTION:Join us for an exciting conversation on African Solutions – A Collaborative Future on Tuesday 26 May 2020 at 6:00pm GMT +2 with Palesa Madumo\, CEO Vuma Reputation Management\, David Toovey\, Managing Director\, Spruik Agency\, and Victoria Uwadoka\, Corporate Communications and Public Affairs Lead\, Nestlé. \nRegister here. \n 
URL:https://www.africacommunicationsweek.com/event/african-solutions-collaborative-future/
LOCATION:Virtual Event
CATEGORIES:ACWEvents
ATTACH;FMTTYPE=image/png:https://www.africacommunicationsweek.com/wp-content/uploads/2020/05/ACW-African-Solutions.png
END:VEVENT
BEGIN:VEVENT
DTSTART;TZID=Europe/Helsinki:20200526T163000
DTEND;TZID=Europe/Helsinki:20200526T173000
DTSTAMP:20260424T154316
CREATED:20200508T130645Z
LAST-MODIFIED:20200520T073414Z
UID:5292-1590510600-1590514200@www.africacommunicationsweek.com
SUMMARY:Rethinking Country Branding
DESCRIPTION:Join us on Tuesday\, 26th May\, 2020 for an exciting conversation on rethinking country branding in a post covid-19 world! \nTheme: Rethinking Country Branding” by 4.30 pm GMT +2. \nWe’ll be expecting you! Click here to register.
URL:https://www.africacommunicationsweek.com/event/rethinking-country-branding/
LOCATION:Virtual Event
CATEGORIES:ACWEvents
ATTACH;FMTTYPE=image/jpeg:https://www.africacommunicationsweek.com/wp-content/uploads/2020/05/Rethinking-Country-Branding-ACW-1.jpeg
END:VEVENT
BEGIN:VEVENT
DTSTART;TZID=Europe/Helsinki:20200526T140000
DTEND;TZID=Europe/Helsinki:20200526T150000
DTSTAMP:20260424T154316
CREATED:20200520T103333Z
LAST-MODIFIED:20200521T110914Z
UID:5478-1590501600-1590505200@www.africacommunicationsweek.com
SUMMARY:The Role of Creative Industries to Shape Narratives and Bring Change
DESCRIPTION:#INFORAFRICA and Africa Communications Week present a discussion on the role of creative industries to shape narratives and bring change. \nJoin us on 26 May 2020 at 2pm (GMT +2) for this exciting panel discussion. \nRegister here
URL:https://www.africacommunicationsweek.com/event/role-creative-industries-shape-narratives-bring-change/
LOCATION:Virtual Event
CATEGORIES:ACWEvents
ATTACH;FMTTYPE=image/png:https://www.africacommunicationsweek.com/wp-content/uploads/2020/05/ACW-INFORAFRICA.png
END:VEVENT
BEGIN:VEVENT
DTSTART;TZID=Europe/Helsinki:20200525T193000
DTEND;TZID=Europe/Helsinki:20200525T203000
DTSTAMP:20260424T154316
CREATED:20200519T121432Z
LAST-MODIFIED:20200521T070131Z
UID:5438-1590435000-1590438600@www.africacommunicationsweek.com
SUMMARY:Attractivité de l’Afrique dans l’économie mondiale post-pandémie
DESCRIPTION:Rejoignez-nous pour cette session sur l’attractivité de l’Afrique dans l’économie mondiale post-pandémie lundi 25 mai 2020 à 19h30 GMT +2 \nInscrivez-vous ici \n 
URL:https://www.africacommunicationsweek.com/event/attractivite-de-lafrique-dans-leconomie-mondiale-post-pandemie/
LOCATION:Virtual Event
CATEGORIES:ACWEvents
ATTACH;FMTTYPE=image/png:https://www.africacommunicationsweek.com/wp-content/uploads/2020/05/ACW-2020-Event-Template-28-2.png
END:VEVENT
BEGIN:VEVENT
DTSTART;TZID=Europe/Helsinki:20200525T180000
DTEND;TZID=Europe/Helsinki:20200525T190000
DTSTAMP:20260424T154316
CREATED:20200519T152312Z
LAST-MODIFIED:20200522T152556Z
UID:5449-1590429600-1590433200@www.africacommunicationsweek.com
SUMMARY:African Solidarity in the Age of Covid-19
DESCRIPTION:On the occasion of Africa Day 25 May 2020\, join us at 6pm GMT +2\, (7pm Addis Ababa) for this insightful discussion with Dr John Nkengasong\, Director AfricaCDC\, Dr Benjamin Djoudalbaye\, Head of Policy\, Health Diplomacy and Communication\, AfricaCDC and Mrs Wynne Musabayana\, Head of Communication\, African Union Commission on African solidarity in the age of Covid-19. \nRegister here \n 
URL:https://www.africacommunicationsweek.com/event/african-solidarity-age-covid-19/
LOCATION:Virtual Event
CATEGORIES:ACWEvents
ATTACH;FMTTYPE=image/png:https://www.africacommunicationsweek.com/wp-content/uploads/2020/05/ACW-AU-updated.png
END:VEVENT
BEGIN:VEVENT
DTSTART;TZID=Europe/Helsinki:20200525T160000
DTEND;TZID=Europe/Helsinki:20200525T170000
DTSTAMP:20260424T154316
CREATED:20200508T165751Z
LAST-MODIFIED:20200522T154400Z
UID:5282-1590422400-1590426000@www.africacommunicationsweek.com
SUMMARY:Lead from the front - Strategic Communications in the wake of COVID-19
DESCRIPTION:Don’t miss out on this exciting opening session on strategic communication in the post COVID-19 era happening on Monday\, 25th May\, 2020. \nTime: 4.00pm GMT+2 \nTheme: Lead from the Front – Strategic communication in the wake of COVID-19 \nRegister here. See you there!
URL:https://www.africacommunicationsweek.com/event/lead-front-strategic-communications-wake-covid-19/
LOCATION:Virtual Event
CATEGORIES:ACWEvents
ATTACH;FMTTYPE=image/png:https://www.africacommunicationsweek.com/wp-content/uploads/2020/05/ACW-2020-Event-Template-15.png
END:VEVENT
BEGIN:VEVENT
DTSTART;TZID=UTC:20190524T080000
DTEND;TZID=UTC:20190524T170000
DTSTAMP:20260424T154316
CREATED:20190506T120126Z
LAST-MODIFIED:20190506T200334Z
UID:4692-1558684800-1558717200@www.africacommunicationsweek.com
SUMMARY:AfricaCommsWeek 2019 - Freetown
DESCRIPTION:  \n  \n  \n  \n  \n  \n  \n  \n  \n  \n  \nJoin Women Mean Business for a Speaker Series & Networking Cocktail during Africa Communications Week on 24 May 2019. We’ll be exploring how social and digital media is disrupting Sierra Leone’s Business and Political Environment. \nFor more information please contact info@wmbhonors.org
URL:https://www.africacommunicationsweek.com/event/africacommsweek2019-freetown/
LOCATION:FreeTown\, Sierra Leone
CATEGORIES:ACWEvents
END:VEVENT
BEGIN:VEVENT
DTSTART;TZID=UTC:20190524T080000
DTEND;TZID=UTC:20190524T170000
DTSTAMP:20260424T154316
CREATED:20190502T153642Z
LAST-MODIFIED:20190516T165708Z
UID:4677-1558684800-1558717200@www.africacommunicationsweek.com
SUMMARY:AfricaCommsWeek 2019 - Casablanca
DESCRIPTION:Dans le cadre de la semaine Africaine des communications (Africa Communications Week) AMMC organisera le vendredi 24 mai une conférence portant sur le thème :  “L’Afrique\, terrain d’innovation pour la communication?”. \nA PROPOS DE L’AMMC\nL’AMMC est un lieu de rencontre exclusif\, dédié aux directeurs et responsables seniors de marketing et de communication de grandes entreprises\, PME et d’institutions publiques. \nDevant la montée des enjeux liés à la bonne maîtrise de la communication et la complexité croissante des problématiques\, ils ont choisi de se retrouver régulièrement au sein de leur association\, pour réfléchir ensemble sur les évolutions de leur métier\, et contribuer à une meilleure prise en compte de la communication dans le management de l’entreprise. \nDans un climat de confiance et de convivialité\, ils apprécient aussi de pouvoir échanger entre eux les expériences et bonnes pratiques\, et de mettre en commun leur expertise pour améliorer leur performance.
URL:https://www.africacommunicationsweek.com/event/africacommsweek-2019-casablanca/
CATEGORIES:ACWEvents
ORGANIZER;CN="Association Marocaine du Marketing et de la Communication - AMMC":MAILTO:contact@ammc.co
END:VEVENT
BEGIN:VEVENT
DTSTART;TZID=UTC:20190523T183000
DTEND;TZID=UTC:20190523T200000
DTSTAMP:20260424T154316
CREATED:20190403T123411Z
LAST-MODIFIED:20190517T140505Z
UID:4521-1558636200-1558641600@www.africacommunicationsweek.com
SUMMARY:AfricaCommsWeek 2019 - Lagos
DESCRIPTION:Join us on Thursday May 23rd during Africa Communications Week for a series of events: \n \nMasterclass featuring Ayeni Adekunle\, Founder Blackhouse Media. Register here \n 
URL:https://www.africacommunicationsweek.com/event/africacommsweek-2019-lagos/
LOCATION:Lagos\, Nigeria
CATEGORIES:ACWEvents
END:VEVENT
BEGIN:VEVENT
DTSTART;TZID=UTC:20190523T080000
DTEND;TZID=UTC:20190525T170000
DTSTAMP:20260424T154316
CREATED:20190503T182647Z
LAST-MODIFIED:20190503T182647Z
UID:4688-1558598400-1558803600@www.africacommunicationsweek.com
SUMMARY:AfricaCommsWeek 2019 - Lome
DESCRIPTION:
URL:https://www.africacommunicationsweek.com/event/africacommsweek-2019-lome/
LOCATION:Université de Lomé\, Togo
CATEGORIES:ACWEvents
ORGANIZER;CN="INSTITUT DES SCIENCES DE L'INFORMATION%2C DE LA COMMUNICATION ET DES ARTS (ISICA) DE L'UNIVERSIT%C3%89 DE LOM%C3%89 (UL)":MAILTO:famekudji73@gmail.com
END:VEVENT
BEGIN:VEVENT
DTSTART;TZID=UTC:20190523T080000
DTEND;TZID=UTC:20190523T170000
DTSTAMP:20260424T154316
CREATED:20190425T112518Z
LAST-MODIFIED:20190425T112649Z
UID:4665-1558598400-1558630800@www.africacommunicationsweek.com
SUMMARY:AfricaCommsWeek 2019 - Niamey
DESCRIPTION:L’association des agences de communication et de publicité du Niger organisera ACW Niamey 2019. \nFacebook  |   Instagram  | Twitter 
URL:https://www.africacommunicationsweek.com/event/africacommsweek-2019-niamey/
LOCATION:Chambre de Commerce et d’Industrie du Niger\, Niger
CATEGORIES:ACWEvents
END:VEVENT
BEGIN:VEVENT
DTSTART;TZID=UTC:20190522T080000
DTEND;TZID=UTC:20190522T170000
DTSTAMP:20260424T154316
CREATED:20190506T140632Z
LAST-MODIFIED:20190506T140632Z
UID:4701-1558512000-1558544400@www.africacommunicationsweek.com
SUMMARY:AfricaCommsWeek 2019 - Kigali
DESCRIPTION:Join us in Kigali on 22 May 2019 during Africa Communications Week for a panel discussion and networking event on the theme: Can Africa Lead Disruptive Innovation in Communications? \nFor more information email rubiescommunication@gmail.com
URL:https://www.africacommunicationsweek.com/event/africacommsweek-2019-kigali/
LOCATION:Marriot Hotel\, Kigali\, Rwanda
CATEGORIES:ACWEvents
END:VEVENT
BEGIN:VEVENT
DTSTART;TZID=UTC:20190522T080000
DTEND;TZID=UTC:20190522T170000
DTSTAMP:20260424T154316
CREATED:20190315T124029Z
LAST-MODIFIED:20190506T201023Z
UID:4471-1558512000-1558544400@www.africacommunicationsweek.com
SUMMARY:AfricaCommsWeek 2019 - Dakar
DESCRIPTION:RENDEZ-VOUS À DAKAR au KEÜR WÀTU\, le 22 Mai 2019 où seront organisés une conférence\, une master class et un cocktail de réseautage dans le cadre de la semaine Africaine des communications (Africa Communications Week).
URL:https://www.africacommunicationsweek.com/event/africacommsweek-2019-dakar/
LOCATION:KEÜR WÀTU\, DAKAR\, Senegal
CATEGORIES:ACWEvents
ORGANIZER;CN="W%C3%80TU Digital Lab":MAILTO:info@watudigital.com
END:VEVENT
BEGIN:VEVENT
DTSTART;TZID=UTC:20190521T080000
DTEND;TZID=UTC:20190521T170000
DTSTAMP:20260424T154316
CREATED:20190503T182346Z
LAST-MODIFIED:20190521T082844Z
UID:4684-1558425600-1558458000@www.africacommunicationsweek.com
SUMMARY:AfricaCommsWeek 2019 - Addis Ababa
DESCRIPTION:Join us in Addis Ababa on Tuesday 21 May\, 2019 for a panel discussion and networking event on the theme Can Africa Lead Disruptive Innovation in Communications?
URL:https://www.africacommunicationsweek.com/event/africacommsweek-2019-addis-ababa/
LOCATION:iceaddis\, Addis Ababa\, Ethiopia
CATEGORIES:ACWEvents
END:VEVENT
BEGIN:VEVENT
DTSTART;TZID=UTC:20180606T143000
DTEND;TZID=UTC:20180606T160000
DTSTAMP:20260424T154316
CREATED:20180427T051651Z
LAST-MODIFIED:20180427T051651Z
UID:4054-1528295400-1528300800@www.africacommunicationsweek.com
SUMMARY:Catch up with #HerNarrative! A new role for media in women's empowerment
DESCRIPTION:Beyond the challenge of gender-sensitive communication: Innovative ways to bring forward the voices of African women and girls\nCommunication plays a fundamental role in development and has become a pressing challenge in Africa. It remains however the blind spot of women and girls’ empowerment across the continent. Production of and access to reliable information is a major\, yet overlooked\, pre-condition for women to play their full part in sustainable development. \nThis session will explore the link between gender\, media and development in an African context. \nMedia organisations have considerable power to shape a society’s experience of gender equality by reporting upon the realities of women and girls’ lives and providing them with a platform to be heard. The debate aims to introduce innovative approaches and solutions to increase female participation and representation in all forms of media in Africa and beyond.
URL:https://www.africacommunicationsweek.com/event/catch-hernarrative-new-role-media-womens-empowerment/
LOCATION:Tour & Taxis\, Brussels\, Belgium
CATEGORIES:ACWEvents
ATTACH;FMTTYPE=image/png:https://www.africacommunicationsweek.com/wp-content/uploads/2018/04/CatchUpWithHerNarrative.png
END:VEVENT
BEGIN:VEVENT
DTSTART;TZID=UTC:20180525T100000
DTEND;TZID=UTC:20180525T123000
DTSTAMP:20260424T154316
CREATED:20180505T061525Z
LAST-MODIFIED:20180512T174114Z
UID:4092-1527242400-1527251400@www.africacommunicationsweek.com
SUMMARY:AfricaCommsWeek 2018: The Cotonou Edition
DESCRIPTION:Rejoignez nous le 25 mai à Cotonou pour une Causerie / Conférence-débat intitulée Café Médias Plus.  \nCAFE MEDIAS PLUS est un Press Club qui oeuvre pour la promotion de la liberté de presse\, la liberté d’expression et pour plus de professionnalisme dans la corporation des journalistes. \n  \nA Propos d’INTERGLOBE CONSEILS\nCabinet-conseil international à vocation africaine spécialisé en expertise géopolitique\, veille stratégique\, communication politique et institutionnelle\, coopération décentralisée et internationale \n 
URL:https://www.africacommunicationsweek.com/event/africacommsweek-2018-cotonou-edition/
LOCATION:Maison des Medias\, Cotonou\, Benin
CATEGORIES:ACWEvents
ATTACH;FMTTYPE=image/jpeg:https://www.africacommunicationsweek.com/wp-content/uploads/2018/05/IMG-20180512-WA0030.jpg
END:VEVENT
BEGIN:VEVENT
DTSTART;VALUE=DATE:20180525
DTEND;VALUE=DATE:20180526
DTSTAMP:20260424T154316
CREATED:20180507T190636Z
LAST-MODIFIED:20180507T190636Z
UID:4109-1527206400-1527292799@www.africacommunicationsweek.com
SUMMARY:AfricaCommsWeek 2018: The Dar Es Salaam Edition
DESCRIPTION:The Tanzania edition of Africa Communications Week hosted by Public Relations Society of Tanzania (PRST) will take place on Friday 25th May\, 2018 at the National Assembly Conference Hall\, Dar es Salaam\, under the theme ‘Economic Integration in Africa: Opportunities for PR/communication professionals to escalate an Industrialized Tanzania.’ \nAbout PRST\nPublic Relations Society of Tanzania (PRST) is a non-partisan\, non-governmental\, Public Relations profession organization established in 2015 to regulate the practice of Public Relations profession in Tanzania by overseeing\, directing and facilitating the efforts of academic institutions instructing Public Relations and organizations practising the profession.
URL:https://www.africacommunicationsweek.com/event/africacommsweek-2018-dar-es-salaam-edition/
LOCATION:National Assembly Conference Hall\, Dar Es Salaam\, Tanzania\, United Republic of
CATEGORIES:ACWEvents
END:VEVENT
END:VCALENDAR